BEGIN:VCALENDAR
VERSION:2.0
METHOD:PUBLISH
X-WR-CALNAME:Esparreguera.cat
X-WR-CALDESC:Esparreguera.cat
X-WR-TIMEZONE:Europe/Madrid
BEGIN:VEVENT
DTSTAMP:20260421T084404Z
CLASS:PUBLIC
DESCRIPTION:
DTSTART:20251011T150000Z
DTEND:20251011T215900Z
LOCATION:Camí del Puig, s/n, Esparreguera
SUMMARY:Colònia Sedó: 175 anys d'activitat industrial
BEGIN:VALARM
TRIGGER:-PT30M
ACTION:DISPLAY
DESCRIPTION:Colònia Sedó: 175 anys d'activitat industrial
END:VALARM
END:VEVENT
END:VCALENDAR
