BEGIN:VCALENDAR
VERSION:2.0
METHOD:PUBLISH
X-WR-CALNAME:Esparreguera.cat
X-WR-CALDESC:Esparreguera.cat
X-WR-TIMEZONE:Europe/Madrid
BEGIN:VEVENT
DTSTAMP:20260422T170656Z
CLASS:PUBLIC
DESCRIPTION:
DTSTART:20250926T080000Z
DTEND:20250926T190000Z
LOCATION:Plaça Antoni Nin i Escudé, 1, Esparreguera
SUMMARY:Donació de sang i plasma
BEGIN:VALARM
TRIGGER:-PT30M
ACTION:DISPLAY
DESCRIPTION:Donació de sang i plasma
END:VALARM
END:VEVENT
END:VCALENDAR
