BEGIN:VCALENDAR
VERSION:2.0
METHOD:PUBLISH
X-WR-CALNAME:Esparreguera.cat
X-WR-CALDESC:Esparreguera.cat
X-WR-TIMEZONE:Europe/Madrid
BEGIN:VEVENT
DTSTAMP:20260421T200703Z
CLASS:PUBLIC
DESCRIPTION:
DTSTART:20240929T170000Z
DTEND:20240929T215900Z
LOCATION:Avinguda Francesc Marimon, 83, Esparreguera
SUMMARY:La Palanca. IV Festival de Circ Contemporani d'Esparreguera: Esencial 
BEGIN:VALARM
TRIGGER:-PT30M
ACTION:DISPLAY
DESCRIPTION:La Palanca. IV Festival de Circ Contemporani d'Esparreguera: Esencial 
END:VALARM
END:VEVENT
END:VCALENDAR
