BEGIN:VCALENDAR
VERSION:2.0
METHOD:PUBLISH
X-WR-CALNAME:Esparreguera.cat
X-WR-CALDESC:Esparreguera.cat
X-WR-TIMEZONE:Europe/Madrid
BEGIN:VEVENT
DTSTAMP:20260421T193956Z
CLASS:PUBLIC
DESCRIPTION:
DTSTART:20240916T090000Z
DTEND:20240922T215900Z
LOCATION:Carrer Arbres, 21, Esparreguera
SUMMARY:Setmana de la Gran Gent
BEGIN:VALARM
TRIGGER:-PT30M
ACTION:DISPLAY
DESCRIPTION:Setmana de la Gran Gent
END:VALARM
END:VEVENT
END:VCALENDAR
